BEGIN:VCALENDAR
VERSION:2.0
PRODID:-//HSMTEC - ECPv6.15.20//NONSGML v1.0//EN
CALSCALE:GREGORIAN
METHOD:PUBLISH
X-ORIGINAL-URL:https://hsmtec.de
X-WR-CALDESC:Veranstaltungen für HSMTEC
REFRESH-INTERVAL;VALUE=DURATION:PT1H
X-Robots-Tag:noindex
X-PUBLISHED-TTL:PT1H
BEGIN:VTIMEZONE
TZID:Europe/Berlin
BEGIN:DAYLIGHT
TZOFFSETFROM:+0100
TZOFFSETTO:+0200
TZNAME:CEST
DTSTART:20250330T010000
END:DAYLIGHT
BEGIN:STANDARD
TZOFFSETFROM:+0200
TZOFFSETTO:+0100
TZNAME:CET
DTSTART:20251026T010000
END:STANDARD
BEGIN:DAYLIGHT
TZOFFSETFROM:+0100
TZOFFSETTO:+0200
TZNAME:CEST
DTSTART:20260329T010000
END:DAYLIGHT
BEGIN:STANDARD
TZOFFSETFROM:+0200
TZOFFSETTO:+0100
TZNAME:CET
DTSTART:20261025T010000
END:STANDARD
BEGIN:DAYLIGHT
TZOFFSETFROM:+0100
TZOFFSETTO:+0200
TZNAME:CEST
DTSTART:20270328T010000
END:DAYLIGHT
BEGIN:STANDARD
TZOFFSETFROM:+0200
TZOFFSETTO:+0100
TZNAME:CET
DTSTART:20271031T010000
END:STANDARD
END:VTIMEZONE
BEGIN:VEVENT
DTSTART;TZID=Europe/Berlin:20260831T090000
DTEND;TZID=Europe/Berlin:20260902T170000
DTSTAMP:20260421T141810
CREATED:20260327T070115Z
LAST-MODIFIED:20260327T070135Z
UID:7740-1788166800-1788368400@hsmtec.de
SUMMARY:Fusion CAM Grundkurs 2D-/3D-Fräsen
DESCRIPTION:Voraussetzung: Fusion CAD Grundkenntnisse \nSchulungsdauer: 3 Tage \nSchulungsinhalt: Grundlagen der CAM-Programmierung im 2D-/3D- und 3+2-Achsen Fräsbereich. \nVeranstaltungsort: HSMTEC Schulungsraum\, Pleinfelder Str. 30\, D-91166 Georgensgmünd \nGerne können Sie sich vorab telefonisch unter der +49 9172 / 99 991 – 0 nach der Verfügbarkeit des ausgewählten Kurses erkundigen.
URL:https://hsmtec.de/veranstaltung/fusion-cam-7/
CATEGORIES:Fusion CAD & Fusion CAM
END:VEVENT
BEGIN:VEVENT
DTSTART;TZID=Europe/Berlin:20260903T090000
DTEND;TZID=Europe/Berlin:20260903T170000
DTSTAMP:20260421T141810
CREATED:20260327T070348Z
LAST-MODIFIED:20260327T070411Z
UID:7742-1788426000-1788454800@hsmtec.de
SUMMARY:Fusion CAM Grundkurs Drehen
DESCRIPTION:Voraussetzung: Fusion Grundkenntnisse \nSchulungsdauer: 1 Tag \nSchulungsinhalt: CAM-Programmierung im Drehbereich \nVeranstaltungsort: HSMTEC Schulungsraum\, Pleinfelder Str. 30\, D-91166 Georgensgmünd \nGerne können Sie sich vorab telefonisch unter der +49 9172 / 99 991 – 0 nach der Verfügbarkeit des ausgewählten Kurses erkundigen.
URL:https://hsmtec.de/veranstaltung/fusion-drehen-2/
CATEGORIES:Fusion CAD & Fusion CAM
END:VEVENT
BEGIN:VEVENT
DTSTART;TZID=Europe/Berlin:20260907T090000
DTEND;TZID=Europe/Berlin:20260909T170000
DTSTAMP:20260421T141810
CREATED:20260327T070453Z
LAST-MODIFIED:20260327T070522Z
UID:7744-1788771600-1788973200@hsmtec.de
SUMMARY:Fusion CAM - Aufbaukurs CAM-Erweiterung "Machining Extension"
DESCRIPTION:Voraussetzung: Fusion360 CAD/CAM Grundkenntnisse \nSchulungsdauer: 3 Tage \nSchulungsinhalt: Grundlagen „Machining Extension“\n– Werkzeugweg stutzen\n– Automatische Bohrungserkennung\n– Antastgeometrie / Flächeninspektion\n– Multi-Achsen Rotation\n– Steil- und Flachbereichsstrategie\n– 5-Achsen simultan mit Kollisionsvermeidung \nVeranstaltungsort: HSMTEC Schulungsraum\, Pleinfelder Str. 30\, D-91166 Georgensgmünd \nGerne können Sie sich vorab telefonisch unter der +49 9172 / 99 991 – 0 nach der Verfügbarkeit des ausgewählten Kurses erkundigen.
URL:https://hsmtec.de/veranstaltung/fusion-machining-extension-7/
CATEGORIES:Fusion CAD & Fusion CAM
END:VEVENT
BEGIN:VEVENT
DTSTART;TZID=Europe/Berlin:20260921T090000
DTEND;TZID=Europe/Berlin:20260923T170000
DTSTAMP:20260421T141810
CREATED:20260327T070854Z
LAST-MODIFIED:20260327T070926Z
UID:7750-1789981200-1790182800@hsmtec.de
SUMMARY:Fusion CAM Grundkurs 2D-/3D-Fräsen
DESCRIPTION:Voraussetzung: Fusion CAD Grundkenntnisse \nSchulungsdauer: 3 Tage \nSchulungsinhalt: Grundlagen der CAM-Programmierung im 2D-/3D- und 3+2-Achsen Fräsbereich. \nVeranstaltungsort: HSMTEC Schulungsraum\, Pleinfelder Str. 30\, D-91166 Georgensgmünd \nGerne können Sie sich vorab telefonisch unter der +49 9172 / 99 991 – 0 nach der Verfügbarkeit des ausgewählten Kurses erkundigen.
URL:https://hsmtec.de/veranstaltung/fusion-cam-8/
CATEGORIES:Fusion CAD & Fusion CAM
END:VEVENT
BEGIN:VEVENT
DTSTART;TZID=Europe/Berlin:20260924T090000
DTEND;TZID=Europe/Berlin:20260924T170000
DTSTAMP:20260421T141810
CREATED:20260327T071003Z
LAST-MODIFIED:20260327T071025Z
UID:7752-1790240400-1790269200@hsmtec.de
SUMMARY:Fusion CAM Grundkurs Drehen
DESCRIPTION:Voraussetzung: Fusion Grundkenntnisse \nSchulungsdauer: 1 Tag \nSchulungsinhalt: CAM-Programmierung im Drehbereich \nVeranstaltungsort: HSMTEC Schulungsraum\, Pleinfelder Str. 30\, D-91166 Georgensgmünd \nGerne können Sie sich vorab telefonisch unter der +49 9172 / 99 991 – 0 nach der Verfügbarkeit des ausgewählten Kurses erkundigen.
URL:https://hsmtec.de/veranstaltung/fusion-cam-grundkurs/
CATEGORIES:Fusion CAD & Fusion CAM
END:VEVENT
BEGIN:VEVENT
DTSTART;TZID=Europe/Berlin:20260928T090000
DTEND;TZID=Europe/Berlin:20260930T170000
DTSTAMP:20260421T141810
CREATED:20260327T071854Z
LAST-MODIFIED:20260327T071916Z
UID:7759-1790586000-1790787600@hsmtec.de
SUMMARY:Fusion CAM - Aufbaukurs CAM-Erweiterung "Machining Extension"
DESCRIPTION:Voraussetzung: Fusion360 CAD/CAM Grundkenntnisse \nSchulungsdauer: 3 Tage \nSchulungsinhalt: Grundlagen „Machining Extension“\n– Werkzeugweg stutzen\n– Automatische Bohrungserkennung\n– Antastgeometrie / Flächeninspektion\n– Multi-Achsen Rotation\n– Steil- und Flachbereichsstrategie\n– 5-Achsen simultan mit Kollisionsvermeidung \nVeranstaltungsort: HSMTEC Schulungsraum\, Pleinfelder Str. 30\, D-91166 Georgensgmünd \nGerne können Sie sich vorab telefonisch unter der +49 9172 / 99 991 – 0 nach der Verfügbarkeit des ausgewählten Kurses erkundigen.
URL:https://hsmtec.de/veranstaltung/fusion-machining-extension-8/
CATEGORIES:Fusion CAD & Fusion CAM
END:VEVENT
END:VCALENDAR