BEGIN:VCALENDAR
VERSION:2.0
PRODID:-//HSMTEC - ECPv6.15.20//NONSGML v1.0//EN
CALSCALE:GREGORIAN
METHOD:PUBLISH
X-WR-CALNAME:HSMTEC
X-ORIGINAL-URL:https://hsmtec.de
X-WR-CALDESC:Veranstaltungen für HSMTEC
REFRESH-INTERVAL;VALUE=DURATION:PT1H
X-Robots-Tag:noindex
X-PUBLISHED-TTL:PT1H
BEGIN:VTIMEZONE
TZID:Europe/Berlin
BEGIN:DAYLIGHT
TZOFFSETFROM:+0100
TZOFFSETTO:+0200
TZNAME:CEST
DTSTART:20250330T010000
END:DAYLIGHT
BEGIN:STANDARD
TZOFFSETFROM:+0200
TZOFFSETTO:+0100
TZNAME:CET
DTSTART:20251026T010000
END:STANDARD
BEGIN:DAYLIGHT
TZOFFSETFROM:+0100
TZOFFSETTO:+0200
TZNAME:CEST
DTSTART:20260329T010000
END:DAYLIGHT
BEGIN:STANDARD
TZOFFSETFROM:+0200
TZOFFSETTO:+0100
TZNAME:CET
DTSTART:20261025T010000
END:STANDARD
BEGIN:DAYLIGHT
TZOFFSETFROM:+0100
TZOFFSETTO:+0200
TZNAME:CEST
DTSTART:20270328T010000
END:DAYLIGHT
BEGIN:STANDARD
TZOFFSETFROM:+0200
TZOFFSETTO:+0100
TZNAME:CET
DTSTART:20271031T010000
END:STANDARD
END:VTIMEZONE
BEGIN:VEVENT
DTSTART;TZID=Europe/Berlin:20260706T090000
DTEND;TZID=Europe/Berlin:20260708T170000
DTSTAMP:20260419T222609
CREATED:20251027T150327Z
LAST-MODIFIED:20251027T150412Z
UID:6999-1783328400-1783530000@hsmtec.de
SUMMARY:Fusion CAM Grundkurs 2D-/3D-Fräsen
DESCRIPTION:Voraussetzung: Fusion CAD Grundkenntnisse \nSchulungsdauer: 3 Tage \nSchulungsinhalt: Grundlagen der CAM-Programmierung im 2D-/3D- und 3+2-Achsen Fräsbereich. \nVeranstaltungsort: HSMTEC Schulungsraum\, Pleinfelder Str. 30\, D-91166 Georgensgmünd \nGerne können Sie sich vorab telefonisch unter der +49 9172 / 99 991 – 0 nach der Verfügbarkeit des ausgewählten Kurses erkundigen.
URL:https://hsmtec.de/veranstaltung/fusion-cam-5/
CATEGORIES:Fusion CAD & Fusion CAM
END:VEVENT
BEGIN:VEVENT
DTSTART;TZID=Europe/Berlin:20260709T090000
DTEND;TZID=Europe/Berlin:20260709T170000
DTSTAMP:20260419T222609
CREATED:20251027T150435Z
LAST-MODIFIED:20251027T150458Z
UID:7002-1783587600-1783616400@hsmtec.de
SUMMARY:Fusion CAM Grundkurs Drehen
DESCRIPTION:Voraussetzung: Fusion Grundkenntnisse \nSchulungsdauer: 1 Tag \nSchulungsinhalt: CAM-Programmierung im Drehbereich \nVeranstaltungsort: HSMTEC Schulungsraum\, Pleinfelder Str. 30\, D-91166 Georgensgmünd \nGerne können Sie sich vorab telefonisch unter der +49 9172 / 99 991 – 0 nach der Verfügbarkeit des ausgewählten Kurses erkundigen.
URL:https://hsmtec.de/veranstaltung/fusion-drehen-7/
CATEGORIES:Fusion CAD & Fusion CAM
END:VEVENT
BEGIN:VEVENT
DTSTART;TZID=Europe/Berlin:20260713T090000
DTEND;TZID=Europe/Berlin:20260715T170000
DTSTAMP:20260419T222609
CREATED:20251027T150510Z
LAST-MODIFIED:20251027T150544Z
UID:7005-1783933200-1784134800@hsmtec.de
SUMMARY:Fusion CAM - Aufbaukurs CAM-Erweiterung "Machining Extension"
DESCRIPTION:Voraussetzung: Fusion360 CAD/CAM Grundkenntnisse \nSchulungsdauer: 3 Tage \nSchulungsinhalt: Grundlagen „Machining Extension“\n– Werkzeugweg stutzen\n– Automatische Bohrungserkennung\n– Antastgeometrie / Flächeninspektion\n– Multi-Achsen Rotation\n– Steil- und Flachbereichsstrategie\n– 5-Achsen simultan mit Kollisionsvermeidung \nVeranstaltungsort: HSMTEC Schulungsraum\, Pleinfelder Str. 30\, D-91166 Georgensgmünd \nGerne können Sie sich vorab telefonisch unter der +49 9172 / 99 991 – 0 nach der Verfügbarkeit des ausgewählten Kurses erkundigen.
URL:https://hsmtec.de/veranstaltung/fusion-machining-extension-6/
CATEGORIES:Fusion CAD & Fusion CAM
END:VEVENT
END:VCALENDAR