BEGIN:VCALENDAR
VERSION:2.0
PRODID:-//HSMTEC - ECPv6.15.20//NONSGML v1.0//EN
CALSCALE:GREGORIAN
METHOD:PUBLISH
X-WR-CALNAME:HSMTEC
X-ORIGINAL-URL:https://hsmtec.de
X-WR-CALDESC:Veranstaltungen für HSMTEC
REFRESH-INTERVAL;VALUE=DURATION:PT1H
X-Robots-Tag:noindex
X-PUBLISHED-TTL:PT1H
BEGIN:VTIMEZONE
TZID:Europe/Berlin
BEGIN:DAYLIGHT
TZOFFSETFROM:+0100
TZOFFSETTO:+0200
TZNAME:CEST
DTSTART:20250330T010000
END:DAYLIGHT
BEGIN:STANDARD
TZOFFSETFROM:+0200
TZOFFSETTO:+0100
TZNAME:CET
DTSTART:20251026T010000
END:STANDARD
BEGIN:DAYLIGHT
TZOFFSETFROM:+0100
TZOFFSETTO:+0200
TZNAME:CEST
DTSTART:20260329T010000
END:DAYLIGHT
BEGIN:STANDARD
TZOFFSETFROM:+0200
TZOFFSETTO:+0100
TZNAME:CET
DTSTART:20261025T010000
END:STANDARD
BEGIN:DAYLIGHT
TZOFFSETFROM:+0100
TZOFFSETTO:+0200
TZNAME:CEST
DTSTART:20270328T010000
END:DAYLIGHT
BEGIN:STANDARD
TZOFFSETFROM:+0200
TZOFFSETTO:+0100
TZNAME:CET
DTSTART:20271031T010000
END:STANDARD
END:VTIMEZONE
BEGIN:VEVENT
DTSTART;TZID=Europe/Berlin:20260608T090000
DTEND;TZID=Europe/Berlin:20260610T170000
DTSTAMP:20260419T191257
CREATED:20251027T141941Z
LAST-MODIFIED:20251027T142013Z
UID:6970-1780909200-1781110800@hsmtec.de
SUMMARY:Fusion CAM Grundkurs 2D-/3D-Fräsen
DESCRIPTION:Voraussetzung: Fusion CAD Grundkenntnisse \nSchulungsdauer: 3 Tage \nSchulungsinhalt: Grundlagen der CAM-Programmierung im 2D-/3D- und 3+2-Achsen Fräsbereich. \nVeranstaltungsort: HSMTEC Schulungsraum\, Pleinfelder Str. 30\, D-91166 Georgensgmünd \nGerne können Sie sich vorab telefonisch unter der +49 9172 / 99 991 – 0 nach der Verfügbarkeit des ausgewählten Kurses erkundigen.
URL:https://hsmtec.de/veranstaltung/fusion-cam-4/
CATEGORIES:Fusion CAD & Fusion CAM
END:VEVENT
BEGIN:VEVENT
DTSTART;TZID=Europe/Berlin:20260611T090000
DTEND;TZID=Europe/Berlin:20260611T170000
DTSTAMP:20260419T191257
CREATED:20251027T142053Z
LAST-MODIFIED:20251027T142203Z
UID:6973-1781168400-1781197200@hsmtec.de
SUMMARY:Fusion CAM Grundkurs Drehen
DESCRIPTION:Voraussetzung: Fusion Grundkenntnisse \nSchulungsdauer: 1 Tag \nSchulungsinhalt: CAM-Programmierung im Drehbereich \nVeranstaltungsort: HSMTEC Schulungsraum\, Pleinfelder Str. 30\, D-91166 Georgensgmünd \nGerne können Sie sich vorab telefonisch unter der +49 9172 / 99 991 – 0 nach der Verfügbarkeit des ausgewählten Kurses erkundigen.
URL:https://hsmtec.de/veranstaltung/fusion-drehen-6/
CATEGORIES:Fusion CAD & Fusion CAM
END:VEVENT
BEGIN:VEVENT
DTSTART;TZID=Europe/Berlin:20260615T090000
DTEND;TZID=Europe/Berlin:20260617T170000
DTSTAMP:20260419T191257
CREATED:20251027T144006Z
LAST-MODIFIED:20251027T144053Z
UID:6982-1781514000-1781715600@hsmtec.de
SUMMARY:Fusion CAM - Aufbaukurs CAM-Erweiterung "Machining Extension"
DESCRIPTION:Voraussetzung: Fusion360 CAD/CAM Grundkenntnisse \nSchulungsdauer: 3 Tage \nSchulungsinhalt: Grundlagen „Machining Extension“\n– Werkzeugweg stutzen\n– Automatische Bohrungserkennung\n– Antastgeometrie / Flächeninspektion\n– Multi-Achsen Rotation\n– Steil- und Flachbereichsstrategie\n– 5-Achsen simultan mit Kollisionsvermeidung \nVeranstaltungsort: HSMTEC Schulungsraum\, Pleinfelder Str. 30\, D-91166 Georgensgmünd \nGerne können Sie sich vorab telefonisch unter der +49 9172 / 99 991 – 0 nach der Verfügbarkeit des ausgewählten Kurses erkundigen.
URL:https://hsmtec.de/veranstaltung/fusion-machining-extension-5/
CATEGORIES:Fusion CAD & Fusion CAM
END:VEVENT
END:VCALENDAR