BEGIN:VCALENDAR
VERSION:2.0
PRODID:-//HSMTEC - ECPv6.15.20//NONSGML v1.0//EN
CALSCALE:GREGORIAN
METHOD:PUBLISH
X-ORIGINAL-URL:https://hsmtec.de
X-WR-CALDESC:Veranstaltungen für HSMTEC
REFRESH-INTERVAL;VALUE=DURATION:PT1H
X-Robots-Tag:noindex
X-PUBLISHED-TTL:PT1H
BEGIN:VTIMEZONE
TZID:Europe/Berlin
BEGIN:DAYLIGHT
TZOFFSETFROM:+0100
TZOFFSETTO:+0200
TZNAME:CEST
DTSTART:20250330T010000
END:DAYLIGHT
BEGIN:STANDARD
TZOFFSETFROM:+0200
TZOFFSETTO:+0100
TZNAME:CET
DTSTART:20251026T010000
END:STANDARD
BEGIN:DAYLIGHT
TZOFFSETFROM:+0100
TZOFFSETTO:+0200
TZNAME:CEST
DTSTART:20260329T010000
END:DAYLIGHT
BEGIN:STANDARD
TZOFFSETFROM:+0200
TZOFFSETTO:+0100
TZNAME:CET
DTSTART:20261025T010000
END:STANDARD
BEGIN:DAYLIGHT
TZOFFSETFROM:+0100
TZOFFSETTO:+0200
TZNAME:CEST
DTSTART:20270328T010000
END:DAYLIGHT
BEGIN:STANDARD
TZOFFSETFROM:+0200
TZOFFSETTO:+0100
TZNAME:CET
DTSTART:20271031T010000
END:STANDARD
END:VTIMEZONE
BEGIN:VEVENT
DTSTART;TZID=Europe/Berlin:20260706T090000
DTEND;TZID=Europe/Berlin:20260708T170000
DTSTAMP:20260421T203647
CREATED:20251027T150327Z
LAST-MODIFIED:20251027T150412Z
UID:6999-1783328400-1783530000@hsmtec.de
SUMMARY:Fusion CAM Grundkurs 2D-/3D-Fräsen
DESCRIPTION:Voraussetzung: Fusion CAD Grundkenntnisse \nSchulungsdauer: 3 Tage \nSchulungsinhalt: Grundlagen der CAM-Programmierung im 2D-/3D- und 3+2-Achsen Fräsbereich. \nVeranstaltungsort: HSMTEC Schulungsraum\, Pleinfelder Str. 30\, D-91166 Georgensgmünd \nGerne können Sie sich vorab telefonisch unter der +49 9172 / 99 991 – 0 nach der Verfügbarkeit des ausgewählten Kurses erkundigen.
URL:https://hsmtec.de/veranstaltung/fusion-cam-5/
CATEGORIES:Fusion CAD & Fusion CAM
END:VEVENT
BEGIN:VEVENT
DTSTART;TZID=Europe/Berlin:20260709T090000
DTEND;TZID=Europe/Berlin:20260709T170000
DTSTAMP:20260421T203647
CREATED:20251027T150435Z
LAST-MODIFIED:20251027T150458Z
UID:7002-1783587600-1783616400@hsmtec.de
SUMMARY:Fusion CAM Grundkurs Drehen
DESCRIPTION:Voraussetzung: Fusion Grundkenntnisse \nSchulungsdauer: 1 Tag \nSchulungsinhalt: CAM-Programmierung im Drehbereich \nVeranstaltungsort: HSMTEC Schulungsraum\, Pleinfelder Str. 30\, D-91166 Georgensgmünd \nGerne können Sie sich vorab telefonisch unter der +49 9172 / 99 991 – 0 nach der Verfügbarkeit des ausgewählten Kurses erkundigen.
URL:https://hsmtec.de/veranstaltung/fusion-drehen-7/
CATEGORIES:Fusion CAD & Fusion CAM
END:VEVENT
BEGIN:VEVENT
DTSTART;TZID=Europe/Berlin:20260713T090000
DTEND;TZID=Europe/Berlin:20260714T170000
DTSTAMP:20260421T203647
CREATED:20260326T153544Z
LAST-MODIFIED:20260326T153650Z
UID:7706-1783933200-1784048400@hsmtec.de
SUMMARY:Inventor CAD für CAM Basiskurs
DESCRIPTION:Voraussetzung: Windows Grundkenntnisse\n \nSchulungsdauer: 2 Tage \nSchulungsinhalt: Grundlagen der Bauteilmodellierung\, Baugruppenfunktionalität\, Nutzen von Oberflächen\, Datenimport/-aufbereitung \nVeranstaltungsort: HSMTEC Schulungsraum\, Pleinfelder Str. 30\, D-91166 Georgensgmünd \n\nGerne können Sie sich vorab telefonisch unter der +49 9172 / 99 991 – 0 nach der Verfügbarkeit des ausgewählten Kurses erkundigen.
URL:https://hsmtec.de/veranstaltung/inventor-cad-fuer-cam/
CATEGORIES:Inventor CAD & Inventor CAM
END:VEVENT
BEGIN:VEVENT
DTSTART;TZID=Europe/Berlin:20260713T090000
DTEND;TZID=Europe/Berlin:20260715T170000
DTSTAMP:20260421T203647
CREATED:20251027T150510Z
LAST-MODIFIED:20251027T150544Z
UID:7005-1783933200-1784134800@hsmtec.de
SUMMARY:Fusion CAM - Aufbaukurs CAM-Erweiterung "Machining Extension"
DESCRIPTION:Voraussetzung: Fusion360 CAD/CAM Grundkenntnisse \nSchulungsdauer: 3 Tage \nSchulungsinhalt: Grundlagen „Machining Extension“\n– Werkzeugweg stutzen\n– Automatische Bohrungserkennung\n– Antastgeometrie / Flächeninspektion\n– Multi-Achsen Rotation\n– Steil- und Flachbereichsstrategie\n– 5-Achsen simultan mit Kollisionsvermeidung \nVeranstaltungsort: HSMTEC Schulungsraum\, Pleinfelder Str. 30\, D-91166 Georgensgmünd \nGerne können Sie sich vorab telefonisch unter der +49 9172 / 99 991 – 0 nach der Verfügbarkeit des ausgewählten Kurses erkundigen.
URL:https://hsmtec.de/veranstaltung/fusion-machining-extension-6/
CATEGORIES:Fusion CAD & Fusion CAM
END:VEVENT
BEGIN:VEVENT
DTSTART;TZID=Europe/Berlin:20260720T090000
DTEND;TZID=Europe/Berlin:20260722T170000
DTSTAMP:20260421T203647
CREATED:20260326T153739Z
LAST-MODIFIED:20260326T153811Z
UID:7708-1784538000-1784739600@hsmtec.de
SUMMARY:Inventor CAM Grundkurs 2D-/3D-Fräsen
DESCRIPTION:Voraussetzung: Inventor CAD Grundkenntnisse \nSchulungsdauer: 3 Tage \nSchulungsinhalt: Grundlagen der CAM-Programmierung im 2D-/3D- und 3+2-Achsen Fräsbereich \nVeranstaltungsort: HSMTEC Schulungsraum\, Pleinfelder Str. 30\, D-91166 Georgensgmünd \nGerne können Sie sich vorab telefonisch unter der +49 9172 / 99 991 – 0 nach der Verfügbarkeit des ausgewählten Kurses erkundigen.
URL:https://hsmtec.de/veranstaltung/inventor-cam/
CATEGORIES:Inventor CAD & Inventor CAM
END:VEVENT
BEGIN:VEVENT
DTSTART;TZID=Europe/Berlin:20260723T090000
DTEND;TZID=Europe/Berlin:20260723T170000
DTSTAMP:20260421T203647
CREATED:20260326T153900Z
LAST-MODIFIED:20260326T153946Z
UID:7710-1784797200-1784826000@hsmtec.de
SUMMARY:Inventor CAM Grundkurs Drehen
DESCRIPTION:Voraussetzung: Inventor CAD Grundkenntnisse \nSchulungsdauer: 1 Tag \nSchulungsinhalt: Grundlagen der CAM-Programmierung im 2D-Drehbereich \nVeranstaltungsort: HSMTEC Schulungsraum\, Pleinfelder Str. 30\, D-91166 Georgensgmünd \nGerne können Sie sich vorab telefonisch unter der +49 9172 / 99 991 – 0 nach der Verfügbarkeit des ausgewählten Kurses erkundigen.
URL:https://hsmtec.de/veranstaltung/inventor-cam-grundkurs-drehen-2/
CATEGORIES:Inventor CAD & Inventor CAM
END:VEVENT
BEGIN:VEVENT
DTSTART;TZID=Europe/Berlin:20260723T090000
DTEND;TZID=Europe/Berlin:20260723T170000
DTSTAMP:20260421T203647
CREATED:20260326T154045Z
LAST-MODIFIED:20260326T154151Z
UID:7714-1784797200-1784826000@hsmtec.de
SUMMARY:Inventor CAM Aufbaukurs 5-Achs-Simultan Fräsen
DESCRIPTION:Inventor CAM Aufbaukurs 5-Achs-Simultan Fräsen \nVoraussetzung: Inventor CAM Grundkenntnisse \nSchulungsdauer: 1 Tag \nSchulungsinhalt: CAM-Programmierung im 5-Achsen Simultan Fräsbereich \nVeranstaltungsort: HSMTEC Schulungsraum\, Pleinfelder Str. 30\, D-91166 Georgensgmünd \nGerne können Sie sich vorab telefonisch unter der +49 9172 / 99 991 – 0 nach der Verfügbarkeit des ausgewählten Kurses erkundigen.
URL:https://hsmtec.de/veranstaltung/inventor-cam-simultan-5/
CATEGORIES:Inventor CAD & Inventor CAM
END:VEVENT
BEGIN:VEVENT
DTSTART;TZID=Europe/Berlin:20260727T090000
DTEND;TZID=Europe/Berlin:20260728T170000
DTSTAMP:20260421T203647
CREATED:20260326T154348Z
LAST-MODIFIED:20260326T154422Z
UID:7716-1785142800-1785258000@hsmtec.de
SUMMARY:Fusion CAD für CAM Basiskurs
DESCRIPTION:Voraussetzung: Windows Grundkenntnisse \nSchulungsdauer: 2 Tage \nSchulungsinhalt: Grundlagen der Bauteilmodellierung\, Baugruppenfunktionalität\, Nutzen von Oberflächen\, Datenimport/-aufbereitung \nVeranstaltungsort: HSMTEC Schulungsraum\, Pleinfelder Str. 30\, D-91166 Georgensgmünd \nGerne können Sie sich vorab telefonisch unter der +49 9172 / 99 991 – 0 nach der Verfügbarkeit des ausgewählten Kurses erkundigen.
URL:https://hsmtec.de/veranstaltung/fusion-cad-2/
CATEGORIES:Fusion CAD & Fusion CAM
END:VEVENT
BEGIN:VEVENT
DTSTART;TZID=Europe/Berlin:20260727T090000
DTEND;TZID=Europe/Berlin:20260728T170000
DTSTAMP:20260421T203647
CREATED:20260326T154505Z
LAST-MODIFIED:20260326T154555Z
UID:7718-1785142800-1785258000@hsmtec.de
SUMMARY:SolidWorks CAD Basiskurs
DESCRIPTION:Voraussetzung: Windows Grundkenntnisse \nSchulungsdauer: 2 Tage \nSchulungsinhalt: Grundlagen der Bauteilmodellierung\, Baugruppenfunktionalität\, Nutzen von Oberflächen\, Datenimport/-aufbereitung \nVeranstaltungsort: HSMTEC Schulungsraum\, Pleinfelder Str. 30\, D-91166 Georgensgmünd \nGerne können Sie sich vorab telefonisch unter der +49 9172 / 99 991 – 0 nach der Verfügbarkeit des ausgewählten Kurses erkundigen.
URL:https://hsmtec.de/veranstaltung/solidworks-cad/
CATEGORIES:Solidworks & HSMWorks
END:VEVENT
END:VCALENDAR