BEGIN:VCALENDAR
VERSION:2.0
PRODID:-//HSMTEC - ECPv6.15.20//NONSGML v1.0//EN
CALSCALE:GREGORIAN
METHOD:PUBLISH
X-WR-CALNAME:HSMTEC
X-ORIGINAL-URL:https://hsmtec.de
X-WR-CALDESC:Veranstaltungen für HSMTEC
REFRESH-INTERVAL;VALUE=DURATION:PT1H
X-Robots-Tag:noindex
X-PUBLISHED-TTL:PT1H
BEGIN:VTIMEZONE
TZID:Europe/Berlin
BEGIN:DAYLIGHT
TZOFFSETFROM:+0100
TZOFFSETTO:+0200
TZNAME:CEST
DTSTART:20250330T010000
END:DAYLIGHT
BEGIN:STANDARD
TZOFFSETFROM:+0200
TZOFFSETTO:+0100
TZNAME:CET
DTSTART:20251026T010000
END:STANDARD
BEGIN:DAYLIGHT
TZOFFSETFROM:+0100
TZOFFSETTO:+0200
TZNAME:CEST
DTSTART:20260329T010000
END:DAYLIGHT
BEGIN:STANDARD
TZOFFSETFROM:+0200
TZOFFSETTO:+0100
TZNAME:CET
DTSTART:20261025T010000
END:STANDARD
BEGIN:DAYLIGHT
TZOFFSETFROM:+0100
TZOFFSETTO:+0200
TZNAME:CEST
DTSTART:20270328T010000
END:DAYLIGHT
BEGIN:STANDARD
TZOFFSETFROM:+0200
TZOFFSETTO:+0100
TZNAME:CET
DTSTART:20271031T010000
END:STANDARD
END:VTIMEZONE
BEGIN:VEVENT
DTSTART;TZID=Europe/Berlin:20260601T090000
DTEND;TZID=Europe/Berlin:20260602T170000
DTSTAMP:20260421T153336
CREATED:20251027T141503Z
LAST-MODIFIED:20251027T141620Z
UID:6964-1780304400-1780419600@hsmtec.de
SUMMARY:Fusion CAD für CAM Basiskurs
DESCRIPTION:Voraussetzung: Windows Grundkenntnisse \nSchulungsdauer: 2 Tage \nSchulungsinhalt: Grundlagen der Bauteilmodellierung\, Baugruppenfunktionalität\, Nutzen von Oberflächen\, Datenimport/-aufbereitung \nVeranstaltungsort: HSMTEC Schulungsraum\, Pleinfelder Str. 30\, D-91166 Georgensgmünd \nGerne können Sie sich vorab telefonisch unter der +49 9172 / 99 991 – 0 nach der Verfügbarkeit des ausgewählten Kurses erkundigen.
URL:https://hsmtec.de/veranstaltung/fusion-cad-5/
CATEGORIES:Fusion CAD & Fusion CAM
END:VEVENT
BEGIN:VEVENT
DTSTART;TZID=Europe/Berlin:20260601T090000
DTEND;TZID=Europe/Berlin:20260602T170000
DTSTAMP:20260421T153336
CREATED:20251027T141728Z
LAST-MODIFIED:20251027T141803Z
UID:6967-1780304400-1780419600@hsmtec.de
SUMMARY:SolidWorks CAD Basiskurs
DESCRIPTION:Voraussetzung: Windows Grundkenntnisse \nSchulungsdauer: 2 Tage \nSchulungsinhalt: Grundlagen der Bauteilmodellierung\, Baugruppenfunktionalität\, Nutzen von Oberflächen\, Datenimport/-aufbereitung \nVeranstaltungsort: HSMTEC Schulungsraum\, Pleinfelder Str. 30\, D-91166 Georgensgmünd \nGerne können Sie sich vorab telefonisch unter der +49 9172 / 99 991 – 0 nach der Verfügbarkeit des ausgewählten Kurses erkundigen.
URL:https://hsmtec.de/veranstaltung/solidworks-cad-3/
CATEGORIES:Solidworks & HSMWorks
END:VEVENT
BEGIN:VEVENT
DTSTART;TZID=Europe/Berlin:20260608T090000
DTEND;TZID=Europe/Berlin:20260610T170000
DTSTAMP:20260421T153336
CREATED:20251027T141941Z
LAST-MODIFIED:20251027T142013Z
UID:6970-1780909200-1781110800@hsmtec.de
SUMMARY:Fusion CAM Grundkurs 2D-/3D-Fräsen
DESCRIPTION:Voraussetzung: Fusion CAD Grundkenntnisse \nSchulungsdauer: 3 Tage \nSchulungsinhalt: Grundlagen der CAM-Programmierung im 2D-/3D- und 3+2-Achsen Fräsbereich. \nVeranstaltungsort: HSMTEC Schulungsraum\, Pleinfelder Str. 30\, D-91166 Georgensgmünd \nGerne können Sie sich vorab telefonisch unter der +49 9172 / 99 991 – 0 nach der Verfügbarkeit des ausgewählten Kurses erkundigen.
URL:https://hsmtec.de/veranstaltung/fusion-cam-4/
CATEGORIES:Fusion CAD & Fusion CAM
END:VEVENT
BEGIN:VEVENT
DTSTART;TZID=Europe/Berlin:20260608T090000
DTEND;TZID=Europe/Berlin:20260610T170000
DTSTAMP:20260421T153337
CREATED:20251027T142402Z
LAST-MODIFIED:20251027T142439Z
UID:6976-1780909200-1781110800@hsmtec.de
SUMMARY:HSMWorks Grundkurs 2D-/3D-Fräsen
DESCRIPTION:Voraussetzung: SolidWorks Grundkenntnisse \nSchulungsdauer: 3 Tage \nSchulungsinhalt: Grundlagen der CAM-Programmierung im 2D-/3D- und 3+2-Achsen Fräsbereich \nVeranstaltungsort: HSMTEC Schulungsraum\, Pleinfelder Str. 30\, D-91166 Georgensgmünd \nGerne können Sie sich vorab telefonisch unter der +49 9172 / 99 991 – 0 nach der Verfügbarkeit des ausgewählten Kurses erkundigen.
URL:https://hsmtec.de/veranstaltung/hsmworks-cam-3/
CATEGORIES:Solidworks & HSMWorks
END:VEVENT
BEGIN:VEVENT
DTSTART;TZID=Europe/Berlin:20260611T090000
DTEND;TZID=Europe/Berlin:20260611T170000
DTSTAMP:20260421T153337
CREATED:20251027T142053Z
LAST-MODIFIED:20251027T142203Z
UID:6973-1781168400-1781197200@hsmtec.de
SUMMARY:Fusion CAM Grundkurs Drehen
DESCRIPTION:Voraussetzung: Fusion Grundkenntnisse \nSchulungsdauer: 1 Tag \nSchulungsinhalt: CAM-Programmierung im Drehbereich \nVeranstaltungsort: HSMTEC Schulungsraum\, Pleinfelder Str. 30\, D-91166 Georgensgmünd \nGerne können Sie sich vorab telefonisch unter der +49 9172 / 99 991 – 0 nach der Verfügbarkeit des ausgewählten Kurses erkundigen.
URL:https://hsmtec.de/veranstaltung/fusion-drehen-6/
CATEGORIES:Fusion CAD & Fusion CAM
END:VEVENT
BEGIN:VEVENT
DTSTART;TZID=Europe/Berlin:20260611T090000
DTEND;TZID=Europe/Berlin:20260611T170000
DTSTAMP:20260421T153337
CREATED:20251027T142605Z
LAST-MODIFIED:20251027T143920Z
UID:6979-1781168400-1781197200@hsmtec.de
SUMMARY:HSMWorks Aufbaukurs 5-Achs-Simultan Fräsen
DESCRIPTION:Voraussetzung: SolidWorks Grundkenntnisse \nSchulungsdauer: 1 Tag \nSchulungsinhalt: CAM-Programmierung im 5-Achsen simultan Fräsbereich \nVeranstaltungsort: HSMTEC Schulungsraum\, Pleinfelder Str. 30\, D-91166 Georgensgmünd \nGerne können Sie sich vorab telefonisch unter der +49 9172 / 99 991 – 0 nach der Verfügbarkeit des ausgewählten Kurses erkundigen.
URL:https://hsmtec.de/veranstaltung/hsmworks-simultan-3/
CATEGORIES:Solidworks & HSMWorks
END:VEVENT
BEGIN:VEVENT
DTSTART;TZID=Europe/Berlin:20260615T090000
DTEND;TZID=Europe/Berlin:20260616T170000
DTSTAMP:20260421T153337
CREATED:20251027T144421Z
LAST-MODIFIED:20251027T144455Z
UID:6985-1781514000-1781629200@hsmtec.de
SUMMARY:Inventor CAD für CAM Basiskurs
DESCRIPTION:Voraussetzung: Windows Grundkenntnisse\n \nSchulungsdauer: 2 Tage \nSchulungsinhalt: Grundlagen der Bauteilmodellierung\, Baugruppenfunktionalität\, Nutzen von Oberflächen\, Datenimport/-aufbereitung \nVeranstaltungsort: HSMTEC Schulungsraum\, Pleinfelder Str. 30\, D-91166 Georgensgmünd \n\nGerne können Sie sich vorab telefonisch unter der +49 9172 / 99 991 – 0 nach der Verfügbarkeit des ausgewählten Kurses erkundigen.
URL:https://hsmtec.de/veranstaltung/inventor-cad-7/
CATEGORIES:Inventor CAD & Inventor CAM
END:VEVENT
BEGIN:VEVENT
DTSTART;TZID=Europe/Berlin:20260615T090000
DTEND;TZID=Europe/Berlin:20260617T170000
DTSTAMP:20260421T153337
CREATED:20251027T144006Z
LAST-MODIFIED:20251027T144053Z
UID:6982-1781514000-1781715600@hsmtec.de
SUMMARY:Fusion CAM - Aufbaukurs CAM-Erweiterung "Machining Extension"
DESCRIPTION:Voraussetzung: Fusion360 CAD/CAM Grundkenntnisse \nSchulungsdauer: 3 Tage \nSchulungsinhalt: Grundlagen „Machining Extension“\n– Werkzeugweg stutzen\n– Automatische Bohrungserkennung\n– Antastgeometrie / Flächeninspektion\n– Multi-Achsen Rotation\n– Steil- und Flachbereichsstrategie\n– 5-Achsen simultan mit Kollisionsvermeidung \nVeranstaltungsort: HSMTEC Schulungsraum\, Pleinfelder Str. 30\, D-91166 Georgensgmünd \nGerne können Sie sich vorab telefonisch unter der +49 9172 / 99 991 – 0 nach der Verfügbarkeit des ausgewählten Kurses erkundigen.
URL:https://hsmtec.de/veranstaltung/fusion-machining-extension-5/
CATEGORIES:Fusion CAD & Fusion CAM
END:VEVENT
BEGIN:VEVENT
DTSTART;TZID=Europe/Berlin:20260622T090000
DTEND;TZID=Europe/Berlin:20260624T170000
DTSTAMP:20260421T153337
CREATED:20251027T144624Z
LAST-MODIFIED:20251027T144752Z
UID:6988-1782118800-1782320400@hsmtec.de
SUMMARY:Inventor CAM Grundkurs 2D-/3D-Fräsen
DESCRIPTION:Voraussetzung: Inventor CAD Grundkenntnisse \nSchulungsdauer: 3 Tage \nSchulungsinhalt: Grundlagen der CAM-Programmierung im 2D-/3D- und 3+2-Achsen Fräsbereich \nVeranstaltungsort: HSMTEC Schulungsraum\, Pleinfelder Str. 30\, D-91166 Georgensgmünd \nGerne können Sie sich vorab telefonisch unter der +49 9172 / 99 991 – 0 nach der Verfügbarkeit des ausgewählten Kurses erkundigen.
URL:https://hsmtec.de/veranstaltung/inventor-cam-8/
CATEGORIES:Inventor CAD & Inventor CAM
END:VEVENT
BEGIN:VEVENT
DTSTART;TZID=Europe/Berlin:20260625T090000
DTEND;TZID=Europe/Berlin:20260625T170000
DTSTAMP:20260421T153337
CREATED:20251027T145357Z
LAST-MODIFIED:20251027T145432Z
UID:6991-1782378000-1782406800@hsmtec.de
SUMMARY:Inventor CAM Grundkurs Drehen
DESCRIPTION:Voraussetzung: Inventor CAD Grundkenntnisse \nSchulungsdauer: 1 Tag \nSchulungsinhalt: Grundlagen der CAM-Programmierung im 2D Drehbereich \nVeranstaltungsort: HSMTEC Schulungsraum\, Pleinfelder Str. 30\, D-91166 Georgensgmünd \nGerne können Sie sich vorab telefonisch unter der +49 9172 / 99 991 – 0 nach der Verfügbarkeit des ausgewählten Kurses erkundigen.
URL:https://hsmtec.de/veranstaltung/inventor-drehen-8/
CATEGORIES:Inventor CAD & Inventor CAM
END:VEVENT
BEGIN:VEVENT
DTSTART;TZID=Europe/Berlin:20260625T090000
DTEND;TZID=Europe/Berlin:20260625T170000
DTSTAMP:20260421T153337
CREATED:20251027T145501Z
LAST-MODIFIED:20251027T145546Z
UID:6993-1782378000-1782406800@hsmtec.de
SUMMARY:Inventor CAM Aufbaukurs 5-Achs-Simultan Fräsen
DESCRIPTION:Inventor CAM Aufbaukurs 5-Achs-Simultan Fräsen \nVoraussetzung: Inventor CAM Grundkenntnisse \nSchulungsdauer: 1 Tag \nSchulungsinhalt: CAM-Programmierung im 5-Achsen Simultan Fräsbereich \nVeranstaltungsort: HSMTEC Schulungsraum\, Pleinfelder Str. 30\, D-91166 Georgensgmünd \nGerne können Sie sich vorab telefonisch unter der +49 9172 / 99 991 – 0 nach der Verfügbarkeit des ausgewählten Kurses erkundigen.
URL:https://hsmtec.de/veranstaltung/inventor-cam-simultan-4/
CATEGORIES:Inventor CAD & Inventor CAM
END:VEVENT
BEGIN:VEVENT
DTSTART;TZID=Europe/Berlin:20260629T090000
DTEND;TZID=Europe/Berlin:20260630T170000
DTSTAMP:20260421T153337
CREATED:20251027T145622Z
LAST-MODIFIED:20251027T145656Z
UID:6996-1782723600-1782838800@hsmtec.de
SUMMARY:Fusion CAD für CAM Basiskurs
DESCRIPTION:Voraussetzung: Windows Grundkenntnisse \nSchulungsdauer: 2 Tage \nSchulungsinhalt: Grundlagen der Bauteilmodellierung\, Baugruppenfunktionalität\, Nutzen von Oberflächen\, Datenimport/-aufbereitung \nVeranstaltungsort: HSMTEC Schulungsraum\, Pleinfelder Str. 30\, D-91166 Georgensgmünd \nGerne können Sie sich vorab telefonisch unter der +49 9172 / 99 991 – 0 nach der Verfügbarkeit des ausgewählten Kurses erkundigen.
URL:https://hsmtec.de/veranstaltung/fusion-cad-6/
CATEGORIES:Fusion CAD & Fusion CAM
END:VEVENT
END:VCALENDAR