BEGIN:VCALENDAR
VERSION:2.0
PRODID:-//HSMTEC - ECPv6.15.20//NONSGML v1.0//EN
CALSCALE:GREGORIAN
METHOD:PUBLISH
X-WR-CALNAME:HSMTEC
X-ORIGINAL-URL:https://hsmtec.de
X-WR-CALDESC:Veranstaltungen für HSMTEC
REFRESH-INTERVAL;VALUE=DURATION:PT1H
X-Robots-Tag:noindex
X-PUBLISHED-TTL:PT1H
BEGIN:VTIMEZONE
TZID:Europe/Berlin
BEGIN:DAYLIGHT
TZOFFSETFROM:+0100
TZOFFSETTO:+0200
TZNAME:CEST
DTSTART:20250330T010000
END:DAYLIGHT
BEGIN:STANDARD
TZOFFSETFROM:+0200
TZOFFSETTO:+0100
TZNAME:CET
DTSTART:20251026T010000
END:STANDARD
BEGIN:DAYLIGHT
TZOFFSETFROM:+0100
TZOFFSETTO:+0200
TZNAME:CEST
DTSTART:20260329T010000
END:DAYLIGHT
BEGIN:STANDARD
TZOFFSETFROM:+0200
TZOFFSETTO:+0100
TZNAME:CET
DTSTART:20261025T010000
END:STANDARD
BEGIN:DAYLIGHT
TZOFFSETFROM:+0100
TZOFFSETTO:+0200
TZNAME:CEST
DTSTART:20270328T010000
END:DAYLIGHT
BEGIN:STANDARD
TZOFFSETFROM:+0200
TZOFFSETTO:+0100
TZNAME:CET
DTSTART:20271031T010000
END:STANDARD
END:VTIMEZONE
BEGIN:VEVENT
DTSTART;TZID=Europe/Berlin:20260921T090000
DTEND;TZID=Europe/Berlin:20260923T170000
DTSTAMP:20260421T121953
CREATED:20260327T070854Z
LAST-MODIFIED:20260327T070926Z
UID:7750-1789981200-1790182800@hsmtec.de
SUMMARY:Fusion CAM Grundkurs 2D-/3D-Fräsen
DESCRIPTION:Voraussetzung: Fusion CAD Grundkenntnisse \nSchulungsdauer: 3 Tage \nSchulungsinhalt: Grundlagen der CAM-Programmierung im 2D-/3D- und 3+2-Achsen Fräsbereich. \nVeranstaltungsort: HSMTEC Schulungsraum\, Pleinfelder Str. 30\, D-91166 Georgensgmünd \nGerne können Sie sich vorab telefonisch unter der +49 9172 / 99 991 – 0 nach der Verfügbarkeit des ausgewählten Kurses erkundigen.
URL:https://hsmtec.de/veranstaltung/fusion-cam-8/
CATEGORIES:Fusion CAD & Fusion CAM
END:VEVENT
BEGIN:VEVENT
DTSTART;TZID=Europe/Berlin:20260921T090000
DTEND;TZID=Europe/Berlin:20260923T170000
DTSTAMP:20260421T121953
CREATED:20260327T071334Z
LAST-MODIFIED:20260327T071421Z
UID:7754-1789981200-1790182800@hsmtec.de
SUMMARY:HSMWorks Grundkurs 2D-/3D-Fräsen
DESCRIPTION:Voraussetzung: SolidWorks Grundkenntnisse \nSchulungsdauer: 3 Tage \nSchulungsinhalt: Grundlagen der CAM-Programmierung im 2D-/3D- und 3+2-Achsen Fräsbereich \nVeranstaltungsort: HSMTEC Schulungsraum\, Pleinfelder Str. 30\, D-91166 Georgensgmünd \nGerne können Sie sich vorab telefonisch unter der +49 9172 / 99 991 – 0 nach der Verfügbarkeit des ausgewählten Kurses erkundigen.
URL:https://hsmtec.de/veranstaltung/hsmworks-cam-4/
CATEGORIES:Solidworks & HSMWorks
END:VEVENT
BEGIN:VEVENT
DTSTART;TZID=Europe/Berlin:20260924T090000
DTEND;TZID=Europe/Berlin:20260924T170000
DTSTAMP:20260421T121953
CREATED:20260327T071003Z
LAST-MODIFIED:20260327T071025Z
UID:7752-1790240400-1790269200@hsmtec.de
SUMMARY:Fusion CAM Grundkurs Drehen
DESCRIPTION:Voraussetzung: Fusion Grundkenntnisse \nSchulungsdauer: 1 Tag \nSchulungsinhalt: CAM-Programmierung im Drehbereich \nVeranstaltungsort: HSMTEC Schulungsraum\, Pleinfelder Str. 30\, D-91166 Georgensgmünd \nGerne können Sie sich vorab telefonisch unter der +49 9172 / 99 991 – 0 nach der Verfügbarkeit des ausgewählten Kurses erkundigen.
URL:https://hsmtec.de/veranstaltung/fusion-cam-grundkurs/
CATEGORIES:Fusion CAD & Fusion CAM
END:VEVENT
BEGIN:VEVENT
DTSTART;TZID=Europe/Berlin:20260924T090000
DTEND;TZID=Europe/Berlin:20260924T170000
DTSTAMP:20260421T121953
CREATED:20260327T071440Z
LAST-MODIFIED:20260327T071458Z
UID:7756-1790240400-1790269200@hsmtec.de
SUMMARY:HSMWorks Aufbaukurs 5-Achs-Simultan Fräsen
DESCRIPTION:Voraussetzung: SolidWorks Grundkenntnisse \nSchulungsdauer: 1 Tag \nSchulungsinhalt: CAM-Programmierung im 5-Achsen simultan Fräsbereich \nVeranstaltungsort: HSMTEC Schulungsraum\, Pleinfelder Str. 30\, D-91166 Georgensgmünd \nGerne können Sie sich vorab telefonisch unter der +49 9172 / 99 991 – 0 nach der Verfügbarkeit des ausgewählten Kurses erkundigen.
URL:https://hsmtec.de/veranstaltung/hsmworks-simultan-4/
CATEGORIES:Solidworks & HSMWorks
END:VEVENT
BEGIN:VEVENT
DTSTART;TZID=Europe/Berlin:20260928T090000
DTEND;TZID=Europe/Berlin:20260929T170000
DTSTAMP:20260421T121953
CREATED:20260327T072012Z
LAST-MODIFIED:20260327T072057Z
UID:7761-1790586000-1790701200@hsmtec.de
SUMMARY:Inventor CAD für CAM Basiskurs
DESCRIPTION:Voraussetzung: Windows Grundkenntnisse\n \nSchulungsdauer: 2 Tage \nSchulungsinhalt: Grundlagen der Bauteilmodellierung\, Baugruppenfunktionalität\, Nutzen von Oberflächen\, Datenimport/-aufbereitung \nVeranstaltungsort: HSMTEC Schulungsraum\, Pleinfelder Str. 30\, D-91166 Georgensgmünd \n\nGerne können Sie sich vorab telefonisch unter der +49 9172 / 99 991 – 0 nach der Verfügbarkeit des ausgewählten Kurses erkundigen.
URL:https://hsmtec.de/veranstaltung/inventor-cad-2/
CATEGORIES:Inventor CAD & Inventor CAM
END:VEVENT
BEGIN:VEVENT
DTSTART;TZID=Europe/Berlin:20260928T090000
DTEND;TZID=Europe/Berlin:20260930T170000
DTSTAMP:20260421T121953
CREATED:20260327T071854Z
LAST-MODIFIED:20260327T071916Z
UID:7759-1790586000-1790787600@hsmtec.de
SUMMARY:Fusion CAM - Aufbaukurs CAM-Erweiterung "Machining Extension"
DESCRIPTION:Voraussetzung: Fusion360 CAD/CAM Grundkenntnisse \nSchulungsdauer: 3 Tage \nSchulungsinhalt: Grundlagen „Machining Extension“\n– Werkzeugweg stutzen\n– Automatische Bohrungserkennung\n– Antastgeometrie / Flächeninspektion\n– Multi-Achsen Rotation\n– Steil- und Flachbereichsstrategie\n– 5-Achsen simultan mit Kollisionsvermeidung \nVeranstaltungsort: HSMTEC Schulungsraum\, Pleinfelder Str. 30\, D-91166 Georgensgmünd \nGerne können Sie sich vorab telefonisch unter der +49 9172 / 99 991 – 0 nach der Verfügbarkeit des ausgewählten Kurses erkundigen.
URL:https://hsmtec.de/veranstaltung/fusion-machining-extension-8/
CATEGORIES:Fusion CAD & Fusion CAM
END:VEVENT
BEGIN:VEVENT
DTSTART;TZID=Europe/Berlin:20261005T090000
DTEND;TZID=Europe/Berlin:20261007T170000
DTSTAMP:20260421T121953
CREATED:20260327T072414Z
LAST-MODIFIED:20260327T072442Z
UID:7763-1791190800-1791392400@hsmtec.de
SUMMARY:Inventor CAM Grundkurs 2D-/3D-Fräsen
DESCRIPTION:Voraussetzung: Inventor CAD Grundkenntnisse \nSchulungsdauer: 3 Tage \nSchulungsinhalt: Grundlagen der CAM-Programmierung im 2D-/3D- und 3+2-Achsen Fräsbereich \nVeranstaltungsort: HSMTEC Schulungsraum\, Pleinfelder Str. 30\, D-91166 Georgensgmünd \nGerne können Sie sich vorab telefonisch unter der +49 9172 / 99 991 – 0 nach der Verfügbarkeit des ausgewählten Kurses erkundigen.
URL:https://hsmtec.de/veranstaltung/inventor-cam-6/
CATEGORIES:Inventor CAD & Inventor CAM
END:VEVENT
BEGIN:VEVENT
DTSTART;TZID=Europe/Berlin:20261008T090000
DTEND;TZID=Europe/Berlin:20261008T170000
DTSTAMP:20260421T121953
CREATED:20260327T072500Z
LAST-MODIFIED:20260327T072522Z
UID:7765-1791450000-1791478800@hsmtec.de
SUMMARY:Inventor CAM Grundkurs Drehen
DESCRIPTION:Voraussetzung: Inventor CAD Grundkenntnisse \nSchulungsdauer: 1 Tag \nSchulungsinhalt: Grundlagen der CAM-Programmierung im 2D-Drehbereich \nVeranstaltungsort: HSMTEC Schulungsraum\, Pleinfelder Str. 30\, D-91166 Georgensgmünd \nGerne können Sie sich vorab telefonisch unter der +49 9172 / 99 991 – 0 nach der Verfügbarkeit des ausgewählten Kurses erkundigen.
URL:https://hsmtec.de/veranstaltung/inventor-cam-grundkurs-drehen-4/
CATEGORIES:Inventor CAD & Inventor CAM
END:VEVENT
BEGIN:VEVENT
DTSTART;TZID=Europe/Berlin:20261008T090000
DTEND;TZID=Europe/Berlin:20261008T170000
DTSTAMP:20260421T121953
CREATED:20260327T072720Z
LAST-MODIFIED:20260327T072740Z
UID:7767-1791450000-1791478800@hsmtec.de
SUMMARY:Inventor CAM Aufbaukurs 5-Achs-Simultan Fräsen
DESCRIPTION:Inventor CAM Aufbaukurs 5-Achs-Simultan Fräsen \nVoraussetzung: Inventor CAM Grundkenntnisse \nSchulungsdauer: 1 Tag \nSchulungsinhalt: CAM-Programmierung im 5-Achsen Simultan Fräsbereich \nVeranstaltungsort: HSMTEC Schulungsraum\, Pleinfelder Str. 30\, D-91166 Georgensgmünd \nGerne können Sie sich vorab telefonisch unter der +49 9172 / 99 991 – 0 nach der Verfügbarkeit des ausgewählten Kurses erkundigen.
URL:https://hsmtec.de/veranstaltung/inventor-cam-simultan-7/
CATEGORIES:Inventor CAD & Inventor CAM
END:VEVENT
BEGIN:VEVENT
DTSTART;TZID=Europe/Berlin:20261012T090000
DTEND;TZID=Europe/Berlin:20261013T170000
DTSTAMP:20260421T121953
CREATED:20260327T073004Z
LAST-MODIFIED:20260327T073020Z
UID:7769-1791795600-1791910800@hsmtec.de
SUMMARY:Fusion CAD für CAM Basiskurs
DESCRIPTION:Voraussetzung: Windows Grundkenntnisse \nSchulungsdauer: 2 Tage \nSchulungsinhalt: Grundlagen der Bauteilmodellierung\, Baugruppenfunktionalität\, Nutzen von Oberflächen\, Datenimport/-aufbereitung \nVeranstaltungsort: HSMTEC Schulungsraum\, Pleinfelder Str. 30\, D-91166 Georgensgmünd \nGerne können Sie sich vorab telefonisch unter der +49 9172 / 99 991 – 0 nach der Verfügbarkeit des ausgewählten Kurses erkundigen.
URL:https://hsmtec.de/veranstaltung/fusion-cad-9/
CATEGORIES:Fusion CAD & Fusion CAM
END:VEVENT
BEGIN:VEVENT
DTSTART;TZID=Europe/Berlin:20261019T090000
DTEND;TZID=Europe/Berlin:20261021T170000
DTSTAMP:20260421T121953
CREATED:20260327T073140Z
LAST-MODIFIED:20260327T073158Z
UID:7771-1792400400-1792602000@hsmtec.de
SUMMARY:Fusion CAM Grundkurs 2D-/3D-Fräsen
DESCRIPTION:Voraussetzung: Fusion CAD Grundkenntnisse \nSchulungsdauer: 3 Tage \nSchulungsinhalt: Grundlagen der CAM-Programmierung im 2D-/3D- und 3+2-Achsen Fräsbereich. \nVeranstaltungsort: HSMTEC Schulungsraum\, Pleinfelder Str. 30\, D-91166 Georgensgmünd \nGerne können Sie sich vorab telefonisch unter der +49 9172 / 99 991 – 0 nach der Verfügbarkeit des ausgewählten Kurses erkundigen.
URL:https://hsmtec.de/veranstaltung/fusion-cam-9/
CATEGORIES:Fusion CAD & Fusion CAM
END:VEVENT
BEGIN:VEVENT
DTSTART;TZID=Europe/Berlin:20261022T090000
DTEND;TZID=Europe/Berlin:20261022T170000
DTSTAMP:20260421T121953
CREATED:20260327T073218Z
LAST-MODIFIED:20260327T073244Z
UID:7773-1792659600-1792688400@hsmtec.de
SUMMARY:Fusion CAM Grundkurs Drehen
DESCRIPTION:Voraussetzung: Fusion Grundkenntnisse \nSchulungsdauer: 1 Tag \nSchulungsinhalt: CAM-Programmierung im Drehbereich \nVeranstaltungsort: HSMTEC Schulungsraum\, Pleinfelder Str. 30\, D-91166 Georgensgmünd \nGerne können Sie sich vorab telefonisch unter der +49 9172 / 99 991 – 0 nach der Verfügbarkeit des ausgewählten Kurses erkundigen.
URL:https://hsmtec.de/veranstaltung/fusion-drehen-3/
CATEGORIES:Fusion CAD & Fusion CAM
END:VEVENT
BEGIN:VEVENT
DTSTART;TZID=Europe/Berlin:20261026T090000
DTEND;TZID=Europe/Berlin:20261028T170000
DTSTAMP:20260421T121953
CREATED:20260327T073303Z
LAST-MODIFIED:20260327T073316Z
UID:7775-1793005200-1793206800@hsmtec.de
SUMMARY:Fusion CAM - Aufbaukurs CAM-Erweiterung "Machining Extension"
DESCRIPTION:Voraussetzung: Fusion360 CAD/CAM Grundkenntnisse \nSchulungsdauer: 3 Tage \nSchulungsinhalt: Grundlagen „Machining Extension“\n– Werkzeugweg stutzen\n– Automatische Bohrungserkennung\n– Antastgeometrie / Flächeninspektion\n– Multi-Achsen Rotation\n– Steil- und Flachbereichsstrategie\n– 5-Achsen simultan mit Kollisionsvermeidung \nVeranstaltungsort: HSMTEC Schulungsraum\, Pleinfelder Str. 30\, D-91166 Georgensgmünd \nGerne können Sie sich vorab telefonisch unter der +49 9172 / 99 991 – 0 nach der Verfügbarkeit des ausgewählten Kurses erkundigen.
URL:https://hsmtec.de/veranstaltung/fusion-machining-extension-9/
CATEGORIES:Fusion CAD & Fusion CAM
END:VEVENT
BEGIN:VEVENT
DTSTART;TZID=Europe/Berlin:20261102T090000
DTEND;TZID=Europe/Berlin:20261103T170000
DTSTAMP:20260421T121953
CREATED:20260327T073551Z
LAST-MODIFIED:20260327T073604Z
UID:7777-1793610000-1793725200@hsmtec.de
SUMMARY:Fusion CAD für CAM Basiskurs
DESCRIPTION:Voraussetzung: Windows Grundkenntnisse \nSchulungsdauer: 2 Tage \nSchulungsinhalt: Grundlagen der Bauteilmodellierung\, Baugruppenfunktionalität\, Nutzen von Oberflächen\, Datenimport/-aufbereitung \nVeranstaltungsort: HSMTEC Schulungsraum\, Pleinfelder Str. 30\, D-91166 Georgensgmünd \nGerne können Sie sich vorab telefonisch unter der +49 9172 / 99 991 – 0 nach der Verfügbarkeit des ausgewählten Kurses erkundigen.
URL:https://hsmtec.de/veranstaltung/fusion-cad-10/
CATEGORIES:Fusion CAD & Fusion CAM
END:VEVENT
BEGIN:VEVENT
DTSTART;TZID=Europe/Berlin:20261102T090000
DTEND;TZID=Europe/Berlin:20261103T170000
DTSTAMP:20260421T121953
CREATED:20260327T073637Z
LAST-MODIFIED:20260327T073710Z
UID:7779-1793610000-1793725200@hsmtec.de
SUMMARY:SolidWorks CAD Basiskurs
DESCRIPTION:Voraussetzung: Windows Grundkenntnisse \nSchulungsdauer: 2 Tage \nSchulungsinhalt: Grundlagen der Bauteilmodellierung\, Baugruppenfunktionalität\, Nutzen von Oberflächen\, Datenimport/-aufbereitung \nVeranstaltungsort: HSMTEC Schulungsraum\, Pleinfelder Str. 30\, D-91166 Georgensgmünd \nGerne können Sie sich vorab telefonisch unter der +49 9172 / 99 991 – 0 nach der Verfügbarkeit des ausgewählten Kurses erkundigen.
URL:https://hsmtec.de/veranstaltung/solidworks-cad-5/
CATEGORIES:Solidworks & HSMWorks
END:VEVENT
BEGIN:VEVENT
DTSTART;TZID=Europe/Berlin:20261109T090000
DTEND;TZID=Europe/Berlin:20261111T170000
DTSTAMP:20260421T121953
CREATED:20260327T073814Z
LAST-MODIFIED:20260327T074024Z
UID:7781-1794214800-1794416400@hsmtec.de
SUMMARY:HSMWorks Grundkurs 2D-/3D-Fräsen
DESCRIPTION:Voraussetzung: SolidWorks Grundkenntnisse \nSchulungsdauer: 3 Tage \nSchulungsinhalt: Grundlagen der CAM-Programmierung im 2D-/3D- und 3+2-Achsen Fräsbereich \nVeranstaltungsort: HSMTEC Schulungsraum\, Pleinfelder Str. 30\, D-91166 Georgensgmünd \nGerne können Sie sich vorab telefonisch unter der +49 9172 / 99 991 – 0 nach der Verfügbarkeit des ausgewählten Kurses erkundigen.
URL:https://hsmtec.de/veranstaltung/hsmworks-cam-5/
CATEGORIES:Solidworks & HSMWorks
END:VEVENT
BEGIN:VEVENT
DTSTART;TZID=Europe/Berlin:20261109T090000
DTEND;TZID=Europe/Berlin:20261111T170000
DTSTAMP:20260421T121953
CREATED:20260327T074158Z
LAST-MODIFIED:20260327T074226Z
UID:7785-1794214800-1794416400@hsmtec.de
SUMMARY:Fusion CAM Grundkurs 2D-/3D-Fräsen
DESCRIPTION:Voraussetzung: Fusion CAD Grundkenntnisse \nSchulungsdauer: 3 Tage \nSchulungsinhalt: Grundlagen der CAM-Programmierung im 2D-/3D- und 3+2-Achsen Fräsbereich. \nVeranstaltungsort: HSMTEC Schulungsraum\, Pleinfelder Str. 30\, D-91166 Georgensgmünd \nGerne können Sie sich vorab telefonisch unter der +49 9172 / 99 991 – 0 nach der Verfügbarkeit des ausgewählten Kurses erkundigen.
URL:https://hsmtec.de/veranstaltung/fusion-cam-10/
CATEGORIES:Fusion CAD & Fusion CAM
END:VEVENT
BEGIN:VEVENT
DTSTART;TZID=Europe/Berlin:20261112T090000
DTEND;TZID=Europe/Berlin:20261112T170000
DTSTAMP:20260421T121953
CREATED:20260327T074046Z
LAST-MODIFIED:20260327T074112Z
UID:7783-1794474000-1794502800@hsmtec.de
SUMMARY:HSMWorks Aufbaukurs 5-Achs-Simultan Fräsen
DESCRIPTION:Voraussetzung: SolidWorks Grundkenntnisse \nSchulungsdauer: 1 Tag \nSchulungsinhalt: CAM-Programmierung im 5-Achsen simultan Fräsbereich \nVeranstaltungsort: HSMTEC Schulungsraum\, Pleinfelder Str. 30\, D-91166 Georgensgmünd \nGerne können Sie sich vorab telefonisch unter der +49 9172 / 99 991 – 0 nach der Verfügbarkeit des ausgewählten Kurses erkundigen.
URL:https://hsmtec.de/veranstaltung/hsmworks-simultan-5/
CATEGORIES:Solidworks & HSMWorks
END:VEVENT
BEGIN:VEVENT
DTSTART;TZID=Europe/Berlin:20261112T090000
DTEND;TZID=Europe/Berlin:20261112T170000
DTSTAMP:20260421T121953
CREATED:20260327T074302Z
LAST-MODIFIED:20260327T074318Z
UID:7787-1794474000-1794502800@hsmtec.de
SUMMARY:Fusion CAM Grundkurs Drehen
DESCRIPTION:Voraussetzung: Fusion Grundkenntnisse \nSchulungsdauer: 1 Tag \nSchulungsinhalt: CAM-Programmierung im Drehbereich \nVeranstaltungsort: HSMTEC Schulungsraum\, Pleinfelder Str. 30\, D-91166 Georgensgmünd \nGerne können Sie sich vorab telefonisch unter der +49 9172 / 99 991 – 0 nach der Verfügbarkeit des ausgewählten Kurses erkundigen.
URL:https://hsmtec.de/veranstaltung/fusion-cam-drehen/
CATEGORIES:Fusion CAD & Fusion CAM
END:VEVENT
BEGIN:VEVENT
DTSTART;TZID=Europe/Berlin:20261116T090000
DTEND;TZID=Europe/Berlin:20261117T170000
DTSTAMP:20260421T121953
CREATED:20260327T074453Z
LAST-MODIFIED:20260327T074515Z
UID:7791-1794819600-1794934800@hsmtec.de
SUMMARY:Inventor CAD für CAM Basiskurs
DESCRIPTION:Voraussetzung: Windows Grundkenntnisse\n \nSchulungsdauer: 2 Tage \nSchulungsinhalt: Grundlagen der Bauteilmodellierung\, Baugruppenfunktionalität\, Nutzen von Oberflächen\, Datenimport/-aufbereitung \nVeranstaltungsort: HSMTEC Schulungsraum\, Pleinfelder Str. 30\, D-91166 Georgensgmünd \n\nGerne können Sie sich vorab telefonisch unter der +49 9172 / 99 991 – 0 nach der Verfügbarkeit des ausgewählten Kurses erkundigen.
URL:https://hsmtec.de/veranstaltung/inventor-cad-4/
CATEGORIES:Inventor CAD & Inventor CAM
END:VEVENT
BEGIN:VEVENT
DTSTART;TZID=Europe/Berlin:20261116T090000
DTEND;TZID=Europe/Berlin:20261118T170000
DTSTAMP:20260421T121953
CREATED:20260327T074359Z
LAST-MODIFIED:20260327T074425Z
UID:7789-1794819600-1795021200@hsmtec.de
SUMMARY:Fusion CAM - Aufbaukurs CAM-Erweiterung "Machining Extension"
DESCRIPTION:Voraussetzung: Fusion360 CAD/CAM Grundkenntnisse \nSchulungsdauer: 3 Tage \nSchulungsinhalt: Grundlagen „Machining Extension“\n– Werkzeugweg stutzen\n– Automatische Bohrungserkennung\n– Antastgeometrie / Flächeninspektion\n– Multi-Achsen Rotation\n– Steil- und Flachbereichsstrategie\n– 5-Achsen simultan mit Kollisionsvermeidung \nVeranstaltungsort: HSMTEC Schulungsraum\, Pleinfelder Str. 30\, D-91166 Georgensgmünd \nGerne können Sie sich vorab telefonisch unter der +49 9172 / 99 991 – 0 nach der Verfügbarkeit des ausgewählten Kurses erkundigen.
URL:https://hsmtec.de/veranstaltung/fusion-machining-extension-10/
CATEGORIES:Fusion CAD & Fusion CAM
END:VEVENT
BEGIN:VEVENT
DTSTART;TZID=Europe/Berlin:20261123T090000
DTEND;TZID=Europe/Berlin:20261125T170000
DTSTAMP:20260421T121953
CREATED:20260327T074701Z
LAST-MODIFIED:20260327T074718Z
UID:7793-1795424400-1795626000@hsmtec.de
SUMMARY:Inventor CAM Grundkurs 2D-/3D-Fräsen
DESCRIPTION:Voraussetzung: Inventor CAD Grundkenntnisse \nSchulungsdauer: 3 Tage \nSchulungsinhalt: Grundlagen der CAM-Programmierung im 2D-/3D- und 3+2-Achsen Fräsbereich \nVeranstaltungsort: HSMTEC Schulungsraum\, Pleinfelder Str. 30\, D-91166 Georgensgmünd \nGerne können Sie sich vorab telefonisch unter der +49 9172 / 99 991 – 0 nach der Verfügbarkeit des ausgewählten Kurses erkundigen.
URL:https://hsmtec.de/veranstaltung/inventor-cam-9/
CATEGORIES:Inventor CAD & Inventor CAM
END:VEVENT
BEGIN:VEVENT
DTSTART;TZID=Europe/Berlin:20261126T090000
DTEND;TZID=Europe/Berlin:20261126T170000
DTSTAMP:20260421T121953
CREATED:20260327T074745Z
LAST-MODIFIED:20260327T074801Z
UID:7795-1795683600-1795712400@hsmtec.de
SUMMARY:Inventor CAM Grundkurs Drehen
DESCRIPTION:Voraussetzung: Inventor CAD Grundkenntnisse \nSchulungsdauer: 1 Tag \nSchulungsinhalt: Grundlagen der CAM-Programmierung im 2D-Drehbereich \nVeranstaltungsort: HSMTEC Schulungsraum\, Pleinfelder Str. 30\, D-91166 Georgensgmünd \nGerne können Sie sich vorab telefonisch unter der +49 9172 / 99 991 – 0 nach der Verfügbarkeit des ausgewählten Kurses erkundigen.
URL:https://hsmtec.de/veranstaltung/inventor-cam-drehen/
CATEGORIES:Inventor CAD & Inventor CAM
END:VEVENT
BEGIN:VEVENT
DTSTART;TZID=Europe/Berlin:20261126T090000
DTEND;TZID=Europe/Berlin:20261126T170000
DTSTAMP:20260421T121953
CREATED:20260327T074815Z
LAST-MODIFIED:20260327T074827Z
UID:7797-1795683600-1795712400@hsmtec.de
SUMMARY:Inventor CAM Aufbaukurs 5-Achs-Simultan Fräsen
DESCRIPTION:Inventor CAM Aufbaukurs 5-Achs-Simultan Fräsen \nVoraussetzung: Inventor CAM Grundkenntnisse \nSchulungsdauer: 1 Tag \nSchulungsinhalt: CAM-Programmierung im 5-Achsen Simultan Fräsbereich \nVeranstaltungsort: HSMTEC Schulungsraum\, Pleinfelder Str. 30\, D-91166 Georgensgmünd \nGerne können Sie sich vorab telefonisch unter der +49 9172 / 99 991 – 0 nach der Verfügbarkeit des ausgewählten Kurses erkundigen.
URL:https://hsmtec.de/veranstaltung/inventor-cam-simultan-8/
CATEGORIES:Inventor CAD & Inventor CAM
END:VEVENT
BEGIN:VEVENT
DTSTART;TZID=Europe/Berlin:20261130T090000
DTEND;TZID=Europe/Berlin:20261201T170000
DTSTAMP:20260421T121953
CREATED:20260327T074914Z
LAST-MODIFIED:20260327T074928Z
UID:7799-1796029200-1796144400@hsmtec.de
SUMMARY:Fusion CAD für CAM Basiskurs
DESCRIPTION:Voraussetzung: Windows Grundkenntnisse \nSchulungsdauer: 2 Tage \nSchulungsinhalt: Grundlagen der Bauteilmodellierung\, Baugruppenfunktionalität\, Nutzen von Oberflächen\, Datenimport/-aufbereitung \nVeranstaltungsort: HSMTEC Schulungsraum\, Pleinfelder Str. 30\, D-91166 Georgensgmünd \nGerne können Sie sich vorab telefonisch unter der +49 9172 / 99 991 – 0 nach der Verfügbarkeit des ausgewählten Kurses erkundigen.
URL:https://hsmtec.de/veranstaltung/fusion-cad-11/
CATEGORIES:Fusion CAD & Fusion CAM
END:VEVENT
BEGIN:VEVENT
DTSTART;TZID=Europe/Berlin:20261207T090000
DTEND;TZID=Europe/Berlin:20261209T170000
DTSTAMP:20260421T121953
CREATED:20260327T074959Z
LAST-MODIFIED:20260327T075018Z
UID:7801-1796634000-1796835600@hsmtec.de
SUMMARY:Fusion CAM Grundkurs 2D-/3D-Fräsen
DESCRIPTION:Voraussetzung: Fusion CAD Grundkenntnisse \nSchulungsdauer: 3 Tage \nSchulungsinhalt: Grundlagen der CAM-Programmierung im 2D-/3D- und 3+2-Achsen Fräsbereich. \nVeranstaltungsort: HSMTEC Schulungsraum\, Pleinfelder Str. 30\, D-91166 Georgensgmünd \nGerne können Sie sich vorab telefonisch unter der +49 9172 / 99 991 – 0 nach der Verfügbarkeit des ausgewählten Kurses erkundigen.
URL:https://hsmtec.de/veranstaltung/fusion-cam-11/
CATEGORIES:Fusion CAD & Fusion CAM
END:VEVENT
BEGIN:VEVENT
DTSTART;TZID=Europe/Berlin:20261210T090000
DTEND;TZID=Europe/Berlin:20261210T170000
DTSTAMP:20260421T121953
CREATED:20260327T075037Z
LAST-MODIFIED:20260327T075054Z
UID:7803-1796893200-1796922000@hsmtec.de
SUMMARY:Fusion CAM Grundkurs Drehen
DESCRIPTION:Voraussetzung: Fusion Grundkenntnisse \nSchulungsdauer: 1 Tag \nSchulungsinhalt: CAM-Programmierung im Drehbereich \nVeranstaltungsort: HSMTEC Schulungsraum\, Pleinfelder Str. 30\, D-91166 Georgensgmünd \nGerne können Sie sich vorab telefonisch unter der +49 9172 / 99 991 – 0 nach der Verfügbarkeit des ausgewählten Kurses erkundigen.
URL:https://hsmtec.de/veranstaltung/fusion-cam-drehen-2/
CATEGORIES:Fusion CAD & Fusion CAM
END:VEVENT
BEGIN:VEVENT
DTSTART;TZID=Europe/Berlin:20261214T090000
DTEND;TZID=Europe/Berlin:20261216T170000
DTSTAMP:20260421T121953
CREATED:20260327T075151Z
LAST-MODIFIED:20260327T075205Z
UID:7805-1797238800-1797440400@hsmtec.de
SUMMARY:Fusion CAM - Aufbaukurs CAM-Erweiterung "Machining Extension"
DESCRIPTION:Voraussetzung: Fusion360 CAD/CAM Grundkenntnisse \nSchulungsdauer: 3 Tage \nSchulungsinhalt: Grundlagen „Machining Extension“\n– Werkzeugweg stutzen\n– Automatische Bohrungserkennung\n– Antastgeometrie / Flächeninspektion\n– Multi-Achsen Rotation\n– Steil- und Flachbereichsstrategie\n– 5-Achsen simultan mit Kollisionsvermeidung \nVeranstaltungsort: HSMTEC Schulungsraum\, Pleinfelder Str. 30\, D-91166 Georgensgmünd \nGerne können Sie sich vorab telefonisch unter der +49 9172 / 99 991 – 0 nach der Verfügbarkeit des ausgewählten Kurses erkundigen.
URL:https://hsmtec.de/veranstaltung/fusion-machining-extension-11/
CATEGORIES:Fusion CAD & Fusion CAM
END:VEVENT
END:VCALENDAR