BEGIN:VCALENDAR
VERSION:2.0
PRODID:-//HSMTEC - ECPv6.15.20//NONSGML v1.0//EN
CALSCALE:GREGORIAN
METHOD:PUBLISH
X-WR-CALNAME:HSMTEC
X-ORIGINAL-URL:https://hsmtec.de
X-WR-CALDESC:Veranstaltungen für HSMTEC
REFRESH-INTERVAL;VALUE=DURATION:PT1H
X-Robots-Tag:noindex
X-PUBLISHED-TTL:PT1H
BEGIN:VTIMEZONE
TZID:Europe/Berlin
BEGIN:DAYLIGHT
TZOFFSETFROM:+0100
TZOFFSETTO:+0200
TZNAME:CEST
DTSTART:20250330T010000
END:DAYLIGHT
BEGIN:STANDARD
TZOFFSETFROM:+0200
TZOFFSETTO:+0100
TZNAME:CET
DTSTART:20251026T010000
END:STANDARD
BEGIN:DAYLIGHT
TZOFFSETFROM:+0100
TZOFFSETTO:+0200
TZNAME:CEST
DTSTART:20260329T010000
END:DAYLIGHT
BEGIN:STANDARD
TZOFFSETFROM:+0200
TZOFFSETTO:+0100
TZNAME:CET
DTSTART:20261025T010000
END:STANDARD
BEGIN:DAYLIGHT
TZOFFSETFROM:+0100
TZOFFSETTO:+0200
TZNAME:CEST
DTSTART:20270328T010000
END:DAYLIGHT
BEGIN:STANDARD
TZOFFSETFROM:+0200
TZOFFSETTO:+0100
TZNAME:CET
DTSTART:20271031T010000
END:STANDARD
END:VTIMEZONE
BEGIN:VEVENT
DTSTART;TZID=Europe/Berlin:20260416T090000
DTEND;TZID=Europe/Berlin:20260416T170000
DTSTAMP:20260419T142221
CREATED:20251027T121352Z
LAST-MODIFIED:20251027T121419Z
UID:6926-1776330000-1776358800@hsmtec.de
SUMMARY:HSMWorks Aufbaukurs 5-Achs-Simultan Fräsen
DESCRIPTION:Voraussetzung: SolidWorks Grundkenntnisse \nSchulungsdauer: 1 Tag \nSchulungsinhalt: CAM-Programmierung im 5-Achsen simultan Fräsbereich \nVeranstaltungsort: HSMTEC Schulungsraum\, Pleinfelder Str. 30\, D-91166 Georgensgmünd \nGerne können Sie sich vorab telefonisch unter der +49 9172 / 99 991 – 0 nach der Verfügbarkeit des ausgewählten Kurses erkundigen.
URL:https://hsmtec.de/veranstaltung/hsmworks-simultan-2/
CATEGORIES:Solidworks & HSMWorks
END:VEVENT
BEGIN:VEVENT
DTSTART;TZID=Europe/Berlin:20260416T090000
DTEND;TZID=Europe/Berlin:20260416T170000
DTSTAMP:20260419T142221
CREATED:20251027T121111Z
LAST-MODIFIED:20251027T121140Z
UID:6920-1776330000-1776358800@hsmtec.de
SUMMARY:Fusion CAM Grundkurs Drehen
DESCRIPTION:Voraussetzung: Fusion Grundkenntnisse \nSchulungsdauer: 1 Tag \nSchulungsinhalt: CAM-Programmierung im Drehbereich \nVeranstaltungsort: HSMTEC Schulungsraum\, Pleinfelder Str. 30\, D-91166 Georgensgmünd \nGerne können Sie sich vorab telefonisch unter der +49 9172 / 99 991 – 0 nach der Verfügbarkeit des ausgewählten Kurses erkundigen.
URL:https://hsmtec.de/veranstaltung/fusion-drehen-5/
CATEGORIES:Fusion CAD & Fusion CAM
END:VEVENT
BEGIN:VEVENT
DTSTART;TZID=Europe/Berlin:20260413T090000
DTEND;TZID=Europe/Berlin:20260415T170000
DTSTAMP:20260419T142221
CREATED:20251027T121212Z
LAST-MODIFIED:20251027T121246Z
UID:6923-1776070800-1776272400@hsmtec.de
SUMMARY:HSMWorks Grundkurs 2D-/3D-Fräsen
DESCRIPTION:Voraussetzung: SolidWorks Grundkenntnisse \nSchulungsdauer: 3 Tage \nSchulungsinhalt: Grundlagen der CAM-Programmierung im 2D-/3D- und 3+2-Achsen Fräsbereich \nVeranstaltungsort: HSMTEC Schulungsraum\, Pleinfelder Str. 30\, D-91166 Georgensgmünd \nGerne können Sie sich vorab telefonisch unter der +49 9172 / 99 991 – 0 nach der Verfügbarkeit des ausgewählten Kurses erkundigen.
URL:https://hsmtec.de/veranstaltung/hsmworks-cam-2/
CATEGORIES:Solidworks & HSMWorks
END:VEVENT
BEGIN:VEVENT
DTSTART;TZID=Europe/Berlin:20260413T090000
DTEND;TZID=Europe/Berlin:20260415T170000
DTSTAMP:20260419T142221
CREATED:20251027T121022Z
LAST-MODIFIED:20251027T121051Z
UID:6917-1776070800-1776272400@hsmtec.de
SUMMARY:Fusion CAM Grundkurs 2D-/3D-Fräsen
DESCRIPTION:Voraussetzung: Fusion CAD Grundkenntnisse \nSchulungsdauer: 3 Tage \nSchulungsinhalt: Grundlagen der CAM-Programmierung im 2D-/3D- und 3+2-Achsen Fräsbereich. \nVeranstaltungsort: HSMTEC Schulungsraum\, Pleinfelder Str. 30\, D-91166 Georgensgmünd \nGerne können Sie sich vorab telefonisch unter der +49 9172 / 99 991 – 0 nach der Verfügbarkeit des ausgewählten Kurses erkundigen.
URL:https://hsmtec.de/veranstaltung/fusion-cam-2/
CATEGORIES:Fusion CAD & Fusion CAM
END:VEVENT
BEGIN:VEVENT
DTSTART;TZID=Europe/Berlin:20260409T090000
DTEND;TZID=Europe/Berlin:20260410T170000
DTSTAMP:20260419T142221
CREATED:20251027T120814Z
LAST-MODIFIED:20251027T120940Z
UID:6915-1775725200-1775840400@hsmtec.de
SUMMARY:SolidWorks CAD Basiskurs
DESCRIPTION:Voraussetzung: Windows Grundkenntnisse \nSchulungsdauer: 2 Tage \nSchulungsinhalt: Grundlagen der Bauteilmodellierung\, Baugruppenfunktionalität\, Nutzen von Oberflächen\, Datenimport/-aufbereitung \nVeranstaltungsort: HSMTEC Schulungsraum\, Pleinfelder Str. 30\, D-91166 Georgensgmünd \nGerne können Sie sich vorab telefonisch unter der +49 9172 / 99 991 – 0 nach der Verfügbarkeit des ausgewählten Kurses erkundigen.
URL:https://hsmtec.de/veranstaltung/solidworks-cad-2/
CATEGORIES:Solidworks & HSMWorks
END:VEVENT
BEGIN:VEVENT
DTSTART;TZID=Europe/Berlin:20260407T090000
DTEND;TZID=Europe/Berlin:20260408T170000
DTSTAMP:20260419T142221
CREATED:20251027T120700Z
LAST-MODIFIED:20251027T120739Z
UID:6912-1775552400-1775667600@hsmtec.de
SUMMARY:Fusion CAD für CAM Basiskurs
DESCRIPTION:Voraussetzung: Windows Grundkenntnisse \nSchulungsdauer: 2 Tage \nSchulungsinhalt: Grundlagen der Bauteilmodellierung\, Baugruppenfunktionalität\, Nutzen von Oberflächen\, Datenimport/-aufbereitung \nVeranstaltungsort: HSMTEC Schulungsraum\, Pleinfelder Str. 30\, D-91166 Georgensgmünd \nGerne können Sie sich vorab telefonisch unter der +49 9172 / 99 991 – 0 nach der Verfügbarkeit des ausgewählten Kurses erkundigen.
URL:https://hsmtec.de/veranstaltung/fusion-cad-3/
CATEGORIES:Fusion CAD & Fusion CAM
END:VEVENT
BEGIN:VEVENT
DTSTART;TZID=Europe/Berlin:20260402T090000
DTEND;TZID=Europe/Berlin:20260402T170000
DTSTAMP:20260419T142221
CREATED:20251027T120252Z
LAST-MODIFIED:20251027T120630Z
UID:6909-1775120400-1775149200@hsmtec.de
SUMMARY:Inventor CAM Aufbaukurs 5-Achs-Simultan Fräsen
DESCRIPTION:Inventor CAM Aufbaukurs 5-Achs-Simultan Fräsen \nVoraussetzung: Inventor CAM Grundkenntnisse \nSchulungsdauer: 1 Tag \nSchulungsinhalt: CAM-Programmierung im 5-Achsen Simultan Fräsbereich \nVeranstaltungsort: HSMTEC Schulungsraum\, Pleinfelder Str. 30\, D-91166 Georgensgmünd \nGerne können Sie sich vorab telefonisch unter der +49 9172 / 99 991 – 0 nach der Verfügbarkeit des ausgewählten Kurses erkundigen.
URL:https://hsmtec.de/veranstaltung/inventor-cam-simultan/
CATEGORIES:Inventor CAD & Inventor CAM
END:VEVENT
BEGIN:VEVENT
DTSTART;TZID=Europe/Berlin:20260402T090000
DTEND;TZID=Europe/Berlin:20260402T170000
DTSTAMP:20260419T142221
CREATED:20251027T120207Z
LAST-MODIFIED:20251027T120235Z
UID:6906-1775120400-1775149200@hsmtec.de
SUMMARY:Inventor CAM Grundkurs Drehen
DESCRIPTION:Voraussetzung: Inventor CAD Grundkenntnisse \nSchulungsdauer: 1 Tag \nSchulungsinhalt: Grundlagen der CAM-Programmierung im 2D Drehbereich \nVeranstaltungsort: HSMTEC Schulungsraum\, Pleinfelder Str. 30\, D-91166 Georgensgmünd \nGerne können Sie sich vorab telefonisch unter der +49 9172 / 99 991 – 0 nach der Verfügbarkeit des ausgewählten Kurses erkundigen.
URL:https://hsmtec.de/veranstaltung/inventor-drehen-3/
CATEGORIES:Inventor CAD & Inventor CAM
END:VEVENT
BEGIN:VEVENT
DTSTART;TZID=Europe/Berlin:20260330T090000
DTEND;TZID=Europe/Berlin:20260401T170000
DTSTAMP:20260419T142221
CREATED:20251027T120106Z
LAST-MODIFIED:20251027T120137Z
UID:6903-1774861200-1775062800@hsmtec.de
SUMMARY:Inventor CAM Grundkurs 2D-/3D-Fräsen
DESCRIPTION:Voraussetzung: Inventor CAD Grundkenntnisse \nSchulungsdauer: 3 Tage \nSchulungsinhalt: Grundlagen der CAM-Programmierung im 2D-/3D- und 3+2-Achsen Fräsbereich \nVeranstaltungsort: HSMTEC Schulungsraum\, Pleinfelder Str. 30\, D-91166 Georgensgmünd \nGerne können Sie sich vorab telefonisch unter der +49 9172 / 99 991 – 0 nach der Verfügbarkeit des ausgewählten Kurses erkundigen.
URL:https://hsmtec.de/veranstaltung/inventor-cam-3/
CATEGORIES:Inventor CAD & Inventor CAM
END:VEVENT
BEGIN:VEVENT
DTSTART;TZID=Europe/Berlin:20260323T090000
DTEND;TZID=Europe/Berlin:20260325T170000
DTSTAMP:20260419T142221
CREATED:20251027T115905Z
LAST-MODIFIED:20251027T115935Z
UID:6897-1774256400-1774458000@hsmtec.de
SUMMARY:Fusion CAM - Aufbaukurs CAM-Erweiterung "Machining Extension"
DESCRIPTION:Voraussetzung: Fusion360 CAD/CAM Grundkenntnisse \nSchulungsdauer: 3 Tage \nSchulungsinhalt: Grundlagen „Machining Extension“\n– Werkzeugweg stutzen\n– Automatische Bohrungserkennung\n– Antastgeometrie / Flächeninspektion\n– Multi-Achsen Rotation\n– Steil- und Flachbereichsstrategie\n– 5-Achsen simultan mit Kollisionsvermeidung \nVeranstaltungsort: HSMTEC Schulungsraum\, Pleinfelder Str. 30\, D-91166 Georgensgmünd \nGerne können Sie sich vorab telefonisch unter der +49 9172 / 99 991 – 0 nach der Verfügbarkeit des ausgewählten Kurses erkundigen.
URL:https://hsmtec.de/veranstaltung/fusion-machining-extension-2/
CATEGORIES:Fusion CAD & Fusion CAM
END:VEVENT
BEGIN:VEVENT
DTSTART;TZID=Europe/Berlin:20260323T090000
DTEND;TZID=Europe/Berlin:20260324T170000
DTSTAMP:20260419T142221
CREATED:20251027T120003Z
LAST-MODIFIED:20251027T120030Z
UID:6900-1774256400-1774371600@hsmtec.de
SUMMARY:Inventor CAD für CAM Basiskurs
DESCRIPTION:Voraussetzung: Windows Grundkenntnisse\n \nSchulungsdauer: 2 Tage \nSchulungsinhalt: Grundlagen der Bauteilmodellierung\, Baugruppenfunktionalität\, Nutzen von Oberflächen\, Datenimport/-aufbereitung \nVeranstaltungsort: HSMTEC Schulungsraum\, Pleinfelder Str. 30\, D-91166 Georgensgmünd \n\nGerne können Sie sich vorab telefonisch unter der +49 9172 / 99 991 – 0 nach der Verfügbarkeit des ausgewählten Kurses erkundigen.
URL:https://hsmtec.de/veranstaltung/inventor-cad-3/
CATEGORIES:Inventor CAD & Inventor CAM
END:VEVENT
BEGIN:VEVENT
DTSTART;TZID=Europe/Berlin:20260319T090000
DTEND;TZID=Europe/Berlin:20260319T170000
DTSTAMP:20260419T142221
CREATED:20251027T115500Z
LAST-MODIFIED:20251027T115609Z
UID:6894-1773910800-1773939600@hsmtec.de
SUMMARY:Fusion CAM Grundkurs Drehen
DESCRIPTION:Voraussetzung: Fusion Grundkenntnisse \nSchulungsdauer: 1 Tag \nSchulungsinhalt: CAM-Programmierung im Drehbereich \nVeranstaltungsort: HSMTEC Schulungsraum\, Pleinfelder Str. 30\, D-91166 Georgensgmünd \nGerne können Sie sich vorab telefonisch unter der +49 9172 / 99 991 – 0 nach der Verfügbarkeit des ausgewählten Kurses erkundigen.
URL:https://hsmtec.de/veranstaltung/fusion-drehen-4/
CATEGORIES:Fusion CAD & Fusion CAM
END:VEVENT
END:VCALENDAR